BEGIN:VCALENDAR
VERSION:2.0
PRODID:icalendar-ruby
CALSCALE:GREGORIAN
BEGIN:VEVENT
DTSTAMP:20260420T101614Z
UID:60d555ac-3bdf-4f33-b581-3a1f62ec29ce
DTSTART;VALUE=DATE:20210519
DESCRIPTION:Property ID# 508707\, Time: 12:00PM
SUMMARY:Auction for 
END:VEVENT
END:VCALENDAR
