BEGIN:VCALENDAR
VERSION:2.0
PRODID:icalendar-ruby
CALSCALE:GREGORIAN
BEGIN:VEVENT
DTSTAMP:20260422T103825Z
UID:95a1d634-dd17-478b-a752-ea1686399f77
DTSTART;VALUE=DATE:20210902
DESCRIPTION:Property ID# 515898\, Time: 12:00PM
SUMMARY:Auction for 
END:VEVENT
END:VCALENDAR
