BEGIN:VCALENDAR
VERSION:2.0
PRODID:icalendar-ruby
CALSCALE:GREGORIAN
BEGIN:VEVENT
DTSTAMP:20260419T133824Z
UID:77d1524f-a916-4160-908c-40923bbd84cf
DTSTART;VALUE=DATE:20230518
DESCRIPTION:Property ID# 556276\, Locatoin: 98 Moorhouse Avenue\, Time: 11:
 00AM
SUMMARY:Auction for 
END:VEVENT
END:VCALENDAR
