BEGIN:VCALENDAR
VERSION:2.0
PRODID:icalendar-ruby
CALSCALE:GREGORIAN
BEGIN:VEVENT
DTSTAMP:20260419T134515Z
UID:8960ae5c-baec-4dab-9fee-02474d0b36d7
DTSTART;VALUE=DATE:20230517
DESCRIPTION:Property ID# 556277\, Time: 4:00PM
SUMMARY:Auction for 
END:VEVENT
END:VCALENDAR
