BEGIN:VCALENDAR
VERSION:2.0
PRODID:icalendar-ruby
CALSCALE:GREGORIAN
BEGIN:VEVENT
DTSTAMP:20260421T110714Z
UID:0a2b4663-1f99-49ed-b826-eb91e74c00c3
DTSTART;VALUE=DATE:20230629
DESCRIPTION:Property ID# 557678\, Locatoin: Grenadier Auction Rooms\, Moorh
 ouse Avenue\, Time: 11:00AM
SUMMARY:Auction for 
END:VEVENT
END:VCALENDAR
