BEGIN:VCALENDAR
VERSION:2.0
PRODID:icalendar-ruby
CALSCALE:GREGORIAN
BEGIN:VEVENT
DTSTAMP:20260423T104507Z
UID:1f030171-829f-498d-9b03-cd7731aed658
DTSTART;VALUE=DATE:20230920
DESCRIPTION:Property ID# 561750\, Time: 12:00PM
SUMMARY:Auction for 
END:VEVENT
END:VCALENDAR
