BEGIN:VCALENDAR
VERSION:2.0
PRODID:icalendar-ruby
CALSCALE:GREGORIAN
BEGIN:VEVENT
DTSTAMP:20260420T100221Z
UID:4d14267e-f3fc-452a-8a82-fb82b7091dfb
DTSTART;VALUE=DATE:20250730
DESCRIPTION:Property ID# 594739\, Time: 12:00PM
SUMMARY:Auction for 
END:VEVENT
END:VCALENDAR
