BEGIN:VCALENDAR
VERSION:2.0
PRODID:icalendar-ruby
CALSCALE:GREGORIAN
BEGIN:VEVENT
DTSTAMP:20260420T102317Z
UID:c336e96a-a556-4eb4-a4a9-7eb4353d3e07
DTSTART;VALUE=DATE:20250925
DESCRIPTION:Property ID# 596941\, Locatoin: Harcourts Grenadier 98 Moorhous
 e Avenue\, Time: 11:00AM
SUMMARY:Auction for 
END:VEVENT
END:VCALENDAR
