BEGIN:VCALENDAR
VERSION:2.0
PRODID:icalendar-ruby
CALSCALE:GREGORIAN
BEGIN:VEVENT
DTSTAMP:20260420T100801Z
UID:03416bd1-ce2c-437c-93ee-0c811192317b
DTSTART;VALUE=DATE:20251023
DESCRIPTION:Property ID# 597511\, Locatoin: Harcourts Grenadier 98 Moorhous
 e Avenue\, Time: 11:00AM
SUMMARY:Auction for 
END:VEVENT
END:VCALENDAR
