BEGIN:VCALENDAR
VERSION:2.0
PRODID:icalendar-ruby
CALSCALE:GREGORIAN
BEGIN:VEVENT
DTSTAMP:20260424T085903Z
UID:e68db2c5-4250-4e39-8171-f7af12c6e039
DTSTART;VALUE=DATE:20260423
DESCRIPTION:Property ID# 605316\, Locatoin: Harcourts Grenadier\, 98 Moorho
 use Avenue (unless sold prior)\, Time: 11:00AM
SUMMARY:Auction for 100 Gardiners Road
END:VEVENT
END:VCALENDAR
