BEGIN:VCALENDAR
VERSION:2.0
PRODID:icalendar-ruby
CALSCALE:GREGORIAN
BEGIN:VEVENT
DTSTAMP:20260420T121512Z
UID:70f4748f-96ed-4d6a-8799-82209accb45c
DTSTART;VALUE=DATE:20260409
DESCRIPTION:Property ID# 605453\, Locatoin: Harcourts Grenadier 98 Moorhous
 e Avenue\, Time: 11:00AM
SUMMARY:Auction for 
END:VEVENT
END:VCALENDAR
